BEGIN:VCALENDAR
VERSION:2.0
PRODID:-//Trauma Informed Oregon - ECPv6.15.20//NONSGML v1.0//EN
CALSCALE:GREGORIAN
METHOD:PUBLISH
X-ORIGINAL-URL:https://traumainformedoregon.org
X-WR-CALDESC:Events for Trauma Informed Oregon
REFRESH-INTERVAL;VALUE=DURATION:PT1H
X-Robots-Tag:noindex
X-PUBLISHED-TTL:PT1H
BEGIN:VTIMEZONE
TZID:America/Los_Angeles
BEGIN:DAYLIGHT
TZOFFSETFROM:-0800
TZOFFSETTO:-0700
TZNAME:PDT
DTSTART:20230312T100000
END:DAYLIGHT
BEGIN:STANDARD
TZOFFSETFROM:-0700
TZOFFSETTO:-0800
TZNAME:PST
DTSTART:20231105T090000
END:STANDARD
BEGIN:DAYLIGHT
TZOFFSETFROM:-0800
TZOFFSETTO:-0700
TZNAME:PDT
DTSTART:20240310T100000
END:DAYLIGHT
BEGIN:STANDARD
TZOFFSETFROM:-0700
TZOFFSETTO:-0800
TZNAME:PST
DTSTART:20241103T090000
END:STANDARD
BEGIN:DAYLIGHT
TZOFFSETFROM:-0800
TZOFFSETTO:-0700
TZNAME:PDT
DTSTART:20250309T100000
END:DAYLIGHT
BEGIN:STANDARD
TZOFFSETFROM:-0700
TZOFFSETTO:-0800
TZNAME:PST
DTSTART:20251102T090000
END:STANDARD
END:VTIMEZONE
BEGIN:VEVENT
DTSTART;TZID=America/Los_Angeles:20241016T100000
DTEND;TZID=America/Los_Angeles:20241016T110000
DTSTAMP:20260422T213335
CREATED:20241003T002340Z
LAST-MODIFIED:20241003T013110Z
UID:10003048-1729072800-1729076400@traumainformedoregon.org
SUMMARY:Micro-Lesson | Personal Office Review for Remote Workers
DESCRIPTION:This micro-lesson will offer practical tips and tricks for assessing your remote working space for employee mental well-being and how you and your background show up in virtual meetings. \nDate: October 16\, 2024\nTime: 10:00-11:00 AM PT
URL:https://traumainformedoregon.org/event/micro-lesson-personal-office-review-for-remote-workers/
CATEGORIES:Micro Lessons
LOCATION:
END:VEVENT
END:VCALENDAR