BEGIN:VCALENDAR
VERSION:2.0
PRODID:-//Trauma Informed Oregon - ECPv6.15.20//NONSGML v1.0//EN
CALSCALE:GREGORIAN
METHOD:PUBLISH
X-WR-CALNAME:Trauma Informed Oregon
X-ORIGINAL-URL:https://traumainformedoregon.org
X-WR-CALDESC:Events for Trauma Informed Oregon
REFRESH-INTERVAL;VALUE=DURATION:PT1H
X-Robots-Tag:noindex
X-PUBLISHED-TTL:PT1H
BEGIN:VTIMEZONE
TZID:America/Los_Angeles
BEGIN:DAYLIGHT
TZOFFSETFROM:-0800
TZOFFSETTO:-0700
TZNAME:PDT
DTSTART:20240310T100000
END:DAYLIGHT
BEGIN:STANDARD
TZOFFSETFROM:-0700
TZOFFSETTO:-0800
TZNAME:PST
DTSTART:20241103T090000
END:STANDARD
BEGIN:DAYLIGHT
TZOFFSETFROM:-0800
TZOFFSETTO:-0700
TZNAME:PDT
DTSTART:20250309T100000
END:DAYLIGHT
BEGIN:STANDARD
TZOFFSETFROM:-0700
TZOFFSETTO:-0800
TZNAME:PST
DTSTART:20251102T090000
END:STANDARD
BEGIN:DAYLIGHT
TZOFFSETFROM:-0800
TZOFFSETTO:-0700
TZNAME:PDT
DTSTART:20260308T100000
END:DAYLIGHT
BEGIN:STANDARD
TZOFFSETFROM:-0700
TZOFFSETTO:-0800
TZNAME:PST
DTSTART:20261101T090000
END:STANDARD
END:VTIMEZONE
BEGIN:VEVENT
DTSTART;TZID=America/Los_Angeles:20250219T100000
DTEND;TZID=America/Los_Angeles:20250219T110000
DTSTAMP:20260422T142736
CREATED:20241210T051559Z
LAST-MODIFIED:20241218T004921Z
UID:10003057-1739959200-1739962800@traumainformedoregon.org
SUMMARY:Micro Lesson | Implementation
DESCRIPTION:Dr. Mandy Davis will share a number of tools TIO has created to assist in the implementation process and help answer questions along the way! Despite a clear need for trauma informed care (TIC)\, it can be challenging to know what to do or where to start; this micro-lesson may help! \nFebruary 19th\, 10:00 am – 11:00 am PST \nThis Micro-Lesson has ended\, please check our calendar or join our events email list for more Trauma Informed events and trainings.
URL:https://traumainformedoregon.org/event/micro-lesson-implementation/
CATEGORIES:Micro Lessons
END:VEVENT
END:VCALENDAR