BEGIN:VCALENDAR
VERSION:2.0
PRODID:-//Trauma Informed Oregon - ECPv6.15.20//NONSGML v1.0//EN
CALSCALE:GREGORIAN
METHOD:PUBLISH
X-ORIGINAL-URL:https://traumainformedoregon.org
X-WR-CALDESC:Events for Trauma Informed Oregon
REFRESH-INTERVAL;VALUE=DURATION:PT1H
X-Robots-Tag:noindex
X-PUBLISHED-TTL:PT1H
BEGIN:VTIMEZONE
TZID:America/Los_Angeles
BEGIN:DAYLIGHT
TZOFFSETFROM:-0800
TZOFFSETTO:-0700
TZNAME:PDT
DTSTART:20240310T100000
END:DAYLIGHT
BEGIN:STANDARD
TZOFFSETFROM:-0700
TZOFFSETTO:-0800
TZNAME:PST
DTSTART:20241103T090000
END:STANDARD
BEGIN:DAYLIGHT
TZOFFSETFROM:-0800
TZOFFSETTO:-0700
TZNAME:PDT
DTSTART:20250309T100000
END:DAYLIGHT
BEGIN:STANDARD
TZOFFSETFROM:-0700
TZOFFSETTO:-0800
TZNAME:PST
DTSTART:20251102T090000
END:STANDARD
BEGIN:DAYLIGHT
TZOFFSETFROM:-0800
TZOFFSETTO:-0700
TZNAME:PDT
DTSTART:20260308T100000
END:DAYLIGHT
BEGIN:STANDARD
TZOFFSETFROM:-0700
TZOFFSETTO:-0800
TZNAME:PST
DTSTART:20261101T090000
END:STANDARD
END:VTIMEZONE
BEGIN:VEVENT
DTSTART;TZID=America/Los_Angeles:20250416T100000
DTEND;TZID=America/Los_Angeles:20250416T110000
DTSTAMP:20260422T103824
CREATED:20250327T235351Z
LAST-MODIFIED:20250328T043134Z
UID:10003151-1744797600-1744801200@traumainformedoregon.org
SUMMARY:Micro-Lesson | The TIC Principle of Peer Support
DESCRIPTION:Date/Time: Wednesday\, April 16th\, 10am – 11am PT \nPeer Support is one of the six main principles of Trauma Informed Care\, but it is often misunderstood when it comes to implementation in organizational change work. Danielle Grondin-Villanueva will share more context for the principle of peer support\, provide an overview of Intentional Peer Support’s principles and tasks\, and highlight the parallels in these frameworks. \nThis Micro-Lesson has ended\, please check our calendar or join our events email list for more Trauma Informed events and trainings.
URL:https://traumainformedoregon.org/event/micro-lesson-the-tic-principle-of-peer-support/
CATEGORIES:Micro Lessons
END:VEVENT
END:VCALENDAR