BEGIN:VCALENDAR
VERSION:2.0
PRODID:-//Trauma Informed Oregon - ECPv6.15.20//NONSGML v1.0//EN
CALSCALE:GREGORIAN
METHOD:PUBLISH
X-ORIGINAL-URL:https://traumainformedoregon.org
X-WR-CALDESC:Events for Trauma Informed Oregon
REFRESH-INTERVAL;VALUE=DURATION:PT1H
X-Robots-Tag:noindex
X-PUBLISHED-TTL:PT1H
BEGIN:VTIMEZONE
TZID:America/Los_Angeles
BEGIN:DAYLIGHT
TZOFFSETFROM:-0800
TZOFFSETTO:-0700
TZNAME:PDT
DTSTART:20240310T100000
END:DAYLIGHT
BEGIN:STANDARD
TZOFFSETFROM:-0700
TZOFFSETTO:-0800
TZNAME:PST
DTSTART:20241103T090000
END:STANDARD
BEGIN:DAYLIGHT
TZOFFSETFROM:-0800
TZOFFSETTO:-0700
TZNAME:PDT
DTSTART:20250309T100000
END:DAYLIGHT
BEGIN:STANDARD
TZOFFSETFROM:-0700
TZOFFSETTO:-0800
TZNAME:PST
DTSTART:20251102T090000
END:STANDARD
BEGIN:DAYLIGHT
TZOFFSETFROM:-0800
TZOFFSETTO:-0700
TZNAME:PDT
DTSTART:20260308T100000
END:DAYLIGHT
BEGIN:STANDARD
TZOFFSETFROM:-0700
TZOFFSETTO:-0800
TZNAME:PST
DTSTART:20261101T090000
END:STANDARD
END:VTIMEZONE
BEGIN:VEVENT
DTSTART;TZID=America/Los_Angeles:20250723T100000
DTEND;TZID=America/Los_Angeles:20250723T110000
DTSTAMP:20260422T051114
CREATED:20250527T221832Z
LAST-MODIFIED:20250530T044050Z
UID:10003165-1753264800-1753268400@traumainformedoregon.org
SUMMARY:Micro-Lesson | Foundations of Early Childhood Mental Health: Supporting Well-Being from the Start
DESCRIPTION:Date/Time: Wednesday\, July 23rd\, 10am – 11am PT \nThis Micro-Lesson offers an overview of key concepts in early childhood mental health\, focusing on the critical developmental period from birth to age five. Topics include the importance of early relationships\, the role of attachment and co-regulation\, and the impact of early experiences on emotional development. Hosted by Ingrid Anderson\, Ed.D. \nThis Micro-Lesson has ended\, please check our calendar or join our events email list for more Trauma Informed events and trainings.
URL:https://traumainformedoregon.org/event/micro-lesson-foundations-of-early-childhood-mental-health-supporting-well-being-from-the-start/
CATEGORIES:Micro Lessons
END:VEVENT
END:VCALENDAR