BEGIN:VCALENDAR
VERSION:2.0
PRODID:-//Trauma Informed Oregon - ECPv6.15.18//NONSGML v1.0//EN
CALSCALE:GREGORIAN
METHOD:PUBLISH
X-ORIGINAL-URL:https://traumainformedoregon.org
X-WR-CALDESC:Events for Trauma Informed Oregon
REFRESH-INTERVAL;VALUE=DURATION:PT1H
X-Robots-Tag:noindex
X-PUBLISHED-TTL:PT1H
BEGIN:VTIMEZONE
TZID:America/Los_Angeles
BEGIN:DAYLIGHT
TZOFFSETFROM:-0800
TZOFFSETTO:-0700
TZNAME:PDT
DTSTART:20230312T100000
END:DAYLIGHT
BEGIN:STANDARD
TZOFFSETFROM:-0700
TZOFFSETTO:-0800
TZNAME:PST
DTSTART:20231105T090000
END:STANDARD
BEGIN:DAYLIGHT
TZOFFSETFROM:-0800
TZOFFSETTO:-0700
TZNAME:PDT
DTSTART:20240310T100000
END:DAYLIGHT
BEGIN:STANDARD
TZOFFSETFROM:-0700
TZOFFSETTO:-0800
TZNAME:PST
DTSTART:20241103T090000
END:STANDARD
BEGIN:DAYLIGHT
TZOFFSETFROM:-0800
TZOFFSETTO:-0700
TZNAME:PDT
DTSTART:20250309T100000
END:DAYLIGHT
BEGIN:STANDARD
TZOFFSETFROM:-0700
TZOFFSETTO:-0800
TZNAME:PST
DTSTART:20251102T090000
END:STANDARD
END:VTIMEZONE
BEGIN:VEVENT
DTSTART;TZID=America/Los_Angeles:20240710T100000
DTEND;TZID=America/Los_Angeles:20240710T113000
DTSTAMP:20260419T105504
CREATED:20240511T055434Z
LAST-MODIFIED:20240823T231720Z
UID:10002957-1720605600-1720611000@traumainformedoregon.org
SUMMARY:Trauma Informed Workforce Wellness 2024 - Public
DESCRIPTION:2/7 – Defining a Supportive Workplace Community: We’re unveiling the concept of Unity in Well-being to ignite conversations around a trauma informed holistic approach to wellness and joy for workplace communities. The goal is to promote well-being as an important part of our personal journeys and for organizational wellness initiatives. (presented by Steffannie Roache) \n3/6 – The Role of Leadership and Management: Leadership and Management Teams have a profound impact on workplace well-being. Let’s explore effective strategies to promote a culture of well-being within your organization. (presented by Steffannie Roache) \n4/10 – Communication and Collaboration: Increase effective communication and collaboration in your workplace for improved well-being and productivity. Discover practical insights to foster a culture of effective\, yet empathetic communication among teams. (presented by Steffannie Roache) \n5/8 – Work-Life Integration and Balance: Strike a harmonious work-life integration and balance. Discover strategies to maintain equilibrium between personal and professional life\, -and- explore intentional use of technology to achieve ‘Work-Life Technology Balance. (presented by Ingrid Anderson) \n6/5 – Intersectionality and Well-being: Explore the transformative impact of community on well-being. We’ll focus on the importance of creating and maintaining a supportive environment for personal and professional growth and wellness. (presented by Steffannie Roache) \n7/10 – Empathy and Inclusivity in Well-being (presented by Danielle Grondin) \n8/7 – Growth Mindset and Resilience (presented by Danielle Grondin) \n9/4 – Employee Well-being Metrics & Feedback Loops (presented by Christy da Rosa) \nThis event has passed. Please see TIO’s Events and Training Calendar for more upcoming events!
URL:https://traumainformedoregon.org/event/trauma-informed-workforce-wellness-2024-public-2-3/2024-07-10/
CATEGORIES:Workforce Wellness
END:VEVENT
END:VCALENDAR