BEGIN:VCALENDAR
VERSION:2.0
PRODID:-//Trauma Informed Oregon - ECPv6.15.18//NONSGML v1.0//EN
CALSCALE:GREGORIAN
METHOD:PUBLISH
X-ORIGINAL-URL:https://traumainformedoregon.org
X-WR-CALDESC:Events for Trauma Informed Oregon
REFRESH-INTERVAL;VALUE=DURATION:PT1H
X-Robots-Tag:noindex
X-PUBLISHED-TTL:PT1H
BEGIN:VTIMEZONE
TZID:America/Los_Angeles
BEGIN:DAYLIGHT
TZOFFSETFROM:-0800
TZOFFSETTO:-0700
TZNAME:PDT
DTSTART:20230312T100000
END:DAYLIGHT
BEGIN:STANDARD
TZOFFSETFROM:-0700
TZOFFSETTO:-0800
TZNAME:PST
DTSTART:20231105T090000
END:STANDARD
BEGIN:DAYLIGHT
TZOFFSETFROM:-0800
TZOFFSETTO:-0700
TZNAME:PDT
DTSTART:20240310T100000
END:DAYLIGHT
BEGIN:STANDARD
TZOFFSETFROM:-0700
TZOFFSETTO:-0800
TZNAME:PST
DTSTART:20241103T090000
END:STANDARD
BEGIN:DAYLIGHT
TZOFFSETFROM:-0800
TZOFFSETTO:-0700
TZNAME:PDT
DTSTART:20250309T100000
END:DAYLIGHT
BEGIN:STANDARD
TZOFFSETFROM:-0700
TZOFFSETTO:-0800
TZNAME:PST
DTSTART:20251102T090000
END:STANDARD
END:VTIMEZONE
BEGIN:VEVENT
DTSTART;TZID=America/Los_Angeles:20240904T100000
DTEND;TZID=America/Los_Angeles:20240904T113000
DTSTAMP:20260418T091958
CREATED:20240823T232104Z
LAST-MODIFIED:20240905T050535Z
UID:10003047-1725444000-1725449400@traumainformedoregon.org
SUMMARY:Trauma Informed Workforce Wellness 2024 - Public
DESCRIPTION:9/4/2024 – Employee Well-being Metrics & Feedback Loops (presented by Christy da Rosa)
URL:https://traumainformedoregon.org/event/trauma-informed-workforce-wellness-2024-public-2-3-2/
CATEGORIES:Workforce Wellness
END:VEVENT
END:VCALENDAR