BEGIN:VCALENDAR
VERSION:2.0
PRODID:-//Trauma Informed Oregon - ECPv6.15.18//NONSGML v1.0//EN
CALSCALE:GREGORIAN
METHOD:PUBLISH
X-WR-CALNAME:Trauma Informed Oregon
X-ORIGINAL-URL:https://traumainformedoregon.org
X-WR-CALDESC:Events for Trauma Informed Oregon
REFRESH-INTERVAL;VALUE=DURATION:PT1H
X-Robots-Tag:noindex
X-PUBLISHED-TTL:PT1H
BEGIN:VTIMEZONE
TZID:America/Los_Angeles
BEGIN:DAYLIGHT
TZOFFSETFROM:-0800
TZOFFSETTO:-0700
TZNAME:PDT
DTSTART:20210314T100000
END:DAYLIGHT
BEGIN:STANDARD
TZOFFSETFROM:-0700
TZOFFSETTO:-0800
TZNAME:PST
DTSTART:20211107T090000
END:STANDARD
BEGIN:DAYLIGHT
TZOFFSETFROM:-0800
TZOFFSETTO:-0700
TZNAME:PDT
DTSTART:20220313T100000
END:DAYLIGHT
BEGIN:STANDARD
TZOFFSETFROM:-0700
TZOFFSETTO:-0800
TZNAME:PST
DTSTART:20221106T090000
END:STANDARD
BEGIN:DAYLIGHT
TZOFFSETFROM:-0800
TZOFFSETTO:-0700
TZNAME:PDT
DTSTART:20230312T100000
END:DAYLIGHT
BEGIN:STANDARD
TZOFFSETFROM:-0700
TZOFFSETTO:-0800
TZNAME:PST
DTSTART:20231105T090000
END:STANDARD
END:VTIMEZONE
BEGIN:VEVENT
DTSTART;TZID=America/Los_Angeles:20220107T120000
DTEND;TZID=America/Los_Angeles:20220107T133000
DTSTAMP:20260419T084202
CREATED:20211228T014254Z
LAST-MODIFIED:20220126T231544Z
UID:10002009-1641556800-1641562200@traumainformedoregon.org
SUMMARY:Disaster Resilience Learning Collaborative - By Invitation
DESCRIPTION:First Friday of the Month\, April\, August\, and December 2022\, 12:00–1:30pm PST \nOpen space for the Disaster Resilience Learning Collaborative. This event is by Invite Only. Please email TIO or fill out our contact form if you would like to discuss participation or if you did not receive the Zoom link within 24 hours of the event start time.
URL:https://traumainformedoregon.org/event/disaster-resilience-learning-collaborative-by-invitation/2022-01-07/
END:VEVENT
BEGIN:VEVENT
DTSTART;TZID=America/Los_Angeles:20220102T110000
DTEND;TZID=America/Los_Angeles:20220102T130000
DTSTAMP:20260419T084202
CREATED:20211228T190029Z
LAST-MODIFIED:20211229T002105Z
UID:10001991-1641121200-1641128400@traumainformedoregon.org
SUMMARY:Journal As Altar Starter Workshop + New Year Intentions
DESCRIPTION:We keep altars for many reasons: for cultural\, religious\, and/or spiritual expression\, to honor ancestors/spirits/nature\, to make our prayers and hopes visible and tangible\, to welcome what we need and desire\, to protect our homes\, to transition beloved people and pets. We keep journals for many reasons\, too.  \nExplore how your journal can become an altar to possibility\, love\, and healing. \nhttps://www.journalasaltar.com/workshops
URL:https://traumainformedoregon.org/event/journal-as-altar-starter-workshop-new-year-intentions/
LOCATION:Online – Zoom
ATTACH;FMTTYPE=image/jpeg:https://traumainformedoregon.org/wp-content/uploads/Journal-As-Altar-Workshop.jpg
END:VEVENT
END:VCALENDAR