BEGIN:VCALENDAR
VERSION:2.0
PRODID:-//Trauma Informed Oregon - ECPv6.15.18//NONSGML v1.0//EN
CALSCALE:GREGORIAN
METHOD:PUBLISH
X-WR-CALNAME:Trauma Informed Oregon
X-ORIGINAL-URL:https://traumainformedoregon.org
X-WR-CALDESC:Events for Trauma Informed Oregon
REFRESH-INTERVAL;VALUE=DURATION:PT1H
X-Robots-Tag:noindex
X-PUBLISHED-TTL:PT1H
BEGIN:VTIMEZONE
TZID:America/Los_Angeles
BEGIN:DAYLIGHT
TZOFFSETFROM:-0800
TZOFFSETTO:-0700
TZNAME:PDT
DTSTART:20210314T100000
END:DAYLIGHT
BEGIN:STANDARD
TZOFFSETFROM:-0700
TZOFFSETTO:-0800
TZNAME:PST
DTSTART:20211107T090000
END:STANDARD
BEGIN:DAYLIGHT
TZOFFSETFROM:-0800
TZOFFSETTO:-0700
TZNAME:PDT
DTSTART:20220313T100000
END:DAYLIGHT
BEGIN:STANDARD
TZOFFSETFROM:-0700
TZOFFSETTO:-0800
TZNAME:PST
DTSTART:20221106T090000
END:STANDARD
BEGIN:DAYLIGHT
TZOFFSETFROM:-0800
TZOFFSETTO:-0700
TZNAME:PDT
DTSTART:20230312T100000
END:DAYLIGHT
BEGIN:STANDARD
TZOFFSETFROM:-0700
TZOFFSETTO:-0800
TZNAME:PST
DTSTART:20231105T090000
END:STANDARD
END:VTIMEZONE
BEGIN:VEVENT
DTSTART;TZID=America/Los_Angeles:20220222T090000
DTEND;TZID=America/Los_Angeles:20220222T100000
DTSTAMP:20260419T082315
CREATED:20211228T004133Z
LAST-MODIFIED:20220105T010904Z
UID:10001986-1645520400-1645524000@traumainformedoregon.org
SUMMARY:TIC Champions – Behavioral Health - Public
DESCRIPTION:Fourth Tuesday of the Month\, quarterly from February 2022 (February\, May\, August\, and November)\, 9am PST\nHosted by a Champion of Behavioral Health TIC; sector specific implementation of TIC case clinics\, with a focus on workforce wellness. \nBehavioral Health (Deanna)
URL:https://traumainformedoregon.org/event/tic-champions-behavioral-health-public/2022-02-22/
END:VEVENT
BEGIN:VEVENT
DTSTART;TZID=America/Los_Angeles:20220222T090000
DTEND;TZID=America/Los_Angeles:20220222T100000
DTSTAMP:20260419T082315
CREATED:20220104T230826Z
LAST-MODIFIED:20221101T010835Z
UID:10001990-1645520400-1645524000@traumainformedoregon.org
SUMMARY:TIC Champions - Education - Public
DESCRIPTION:Sector specific “implementation of TIC case clinics”\, with a focus on workforce wellness. \nFourth Tuesday of the Month\, quarterly from Feb\, 9am PST
URL:https://traumainformedoregon.org/event/tic-champions-education-public/2022-02-22/
END:VEVENT
BEGIN:VEVENT
DTSTART;TZID=America/Los_Angeles:20220224T120000
DTEND;TZID=America/Los_Angeles:20220224T130000
DTSTAMP:20260419T082315
CREATED:20211228T014737Z
LAST-MODIFIED:20220825T061231Z
UID:10001992-1645704000-1645707600@traumainformedoregon.org
SUMMARY:Trauma Specific Service Community Share - Public
DESCRIPTION:Fourth Thursday of the month\, bimonthly from Feb 2022\, 12–1pm PST \nWe’ll hear from healers around the country who use a trauma specific modality\, and thus broaden our understanding and advocacy for varying healing practices.
URL:https://traumainformedoregon.org/event/trauma-specific-service-community-share-public/2022-02-24/
END:VEVENT
END:VCALENDAR